BEGIN:VCALENDAR
VERSION:2.0
PRODID:-//Paradiestal Grundschule - ECPv6.15.12.2//NONSGML v1.0//EN
CALSCALE:GREGORIAN
METHOD:PUBLISH
X-ORIGINAL-URL:https://paradiestal-grundschule.de
X-WR-CALDESC:Veranstaltungen für Paradiestal Grundschule
REFRESH-INTERVAL;VALUE=DURATION:PT1H
X-Robots-Tag:noindex
X-PUBLISHED-TTL:PT1H
BEGIN:VTIMEZONE
TZID:Europe/Berlin
BEGIN:DAYLIGHT
TZOFFSETFROM:+0100
TZOFFSETTO:+0200
TZNAME:CEST
DTSTART:20250330T010000
END:DAYLIGHT
BEGIN:STANDARD
TZOFFSETFROM:+0200
TZOFFSETTO:+0100
TZNAME:CET
DTSTART:20251026T010000
END:STANDARD
BEGIN:DAYLIGHT
TZOFFSETFROM:+0100
TZOFFSETTO:+0200
TZNAME:CEST
DTSTART:20260329T010000
END:DAYLIGHT
BEGIN:STANDARD
TZOFFSETFROM:+0200
TZOFFSETTO:+0100
TZNAME:CET
DTSTART:20261025T010000
END:STANDARD
BEGIN:DAYLIGHT
TZOFFSETFROM:+0100
TZOFFSETTO:+0200
TZNAME:CEST
DTSTART:20270328T010000
END:DAYLIGHT
BEGIN:STANDARD
TZOFFSETFROM:+0200
TZOFFSETTO:+0100
TZNAME:CET
DTSTART:20271031T010000
END:STANDARD
END:VTIMEZONE
BEGIN:VEVENT
DTSTART;VALUE=DATE:20260504
DTEND;VALUE=DATE:20260505
DTSTAMP:20260420T171741
CREATED:20250928T072151Z
LAST-MODIFIED:20250928T072155Z
UID:932-1777852800-1777939199@paradiestal-grundschule.de
SUMMARY:Übertrittszeugnis
DESCRIPTION:
URL:https://paradiestal-grundschule.de/termine/uebertrittszeugnis-2/
END:VEVENT
BEGIN:VEVENT
DTSTART;TZID=Europe/Berlin:20260506T100000
DTEND;TZID=Europe/Berlin:20260506T113000
DTSTAMP:20260420T171741
CREATED:20251229T083417Z
LAST-MODIFIED:20251229T083421Z
UID:1009-1778061600-1778067000@paradiestal-grundschule.de
SUMMARY:Lesung mit Vanessa Walder
DESCRIPTION:
URL:https://paradiestal-grundschule.de/termine/lesung-mit-vanessa-walder/
END:VEVENT
BEGIN:VEVENT
DTSTART;TZID=Europe/Berlin:20260515T080000
DTEND;TZID=Europe/Berlin:20260515T121500
DTSTAMP:20260420T171741
CREATED:20250806T122304Z
LAST-MODIFIED:20250806T122308Z
UID:921-1778832000-1778847300@paradiestal-grundschule.de
SUMMARY:Bundesjugendspiele
DESCRIPTION:
URL:https://paradiestal-grundschule.de/termine/bundesjugendspiele-4/
END:VEVENT
BEGIN:VEVENT
DTSTART;VALUE=DATE:20260525
DTEND;VALUE=DATE:20260530
DTSTAMP:20260420T171741
CREATED:20250806T122343Z
LAST-MODIFIED:20250806T122346Z
UID:923-1779667200-1780099199@paradiestal-grundschule.de
SUMMARY:Pfingstferien
DESCRIPTION:
URL:https://paradiestal-grundschule.de/termine/pfingstferien-5/
END:VEVENT
END:VCALENDAR